BEGIN:VCALENDAR
VERSION:2.0
PRODID:-//natureonthebrink.org - ECPv6.15.20//NONSGML v1.0//EN
CALSCALE:GREGORIAN
METHOD:PUBLISH
X-WR-CALNAME:natureonthebrink.org
X-ORIGINAL-URL:https://natureonthebrink.org
X-WR-CALDESC:Events for natureonthebrink.org
REFRESH-INTERVAL;VALUE=DURATION:PT1H
X-Robots-Tag:noindex
X-PUBLISHED-TTL:PT1H
BEGIN:VTIMEZONE
TZID:America/New_York
BEGIN:DAYLIGHT
TZOFFSETFROM:-0500
TZOFFSETTO:-0400
TZNAME:EDT
DTSTART:20250309T070000
END:DAYLIGHT
BEGIN:STANDARD
TZOFFSETFROM:-0400
TZOFFSETTO:-0500
TZNAME:EST
DTSTART:20251102T060000
END:STANDARD
BEGIN:DAYLIGHT
TZOFFSETFROM:-0500
TZOFFSETTO:-0400
TZNAME:EDT
DTSTART:20260308T070000
END:DAYLIGHT
BEGIN:STANDARD
TZOFFSETFROM:-0400
TZOFFSETTO:-0500
TZNAME:EST
DTSTART:20261101T060000
END:STANDARD
BEGIN:DAYLIGHT
TZOFFSETFROM:-0500
TZOFFSETTO:-0400
TZNAME:EDT
DTSTART:20270314T070000
END:DAYLIGHT
BEGIN:STANDARD
TZOFFSETFROM:-0400
TZOFFSETTO:-0500
TZNAME:EST
DTSTART:20271107T060000
END:STANDARD
END:VTIMEZONE
BEGIN:VEVENT
DTSTART;TZID=America/New_York:20260608T160000
DTEND;TZID=America/New_York:20260608T170000
DTSTAMP:20260423T123018
CREATED:20260422T222948Z
LAST-MODIFIED:20260422T224316Z
UID:806-1780934400-1780938000@natureonthebrink.org
SUMMARY:Vermiculture 101: The Science of Worm Composting
DESCRIPTION:Vermiculture: or How to Raise Worms In-Person\n\nLearn about the creatures beneath the dirt! Join us for a presentation by Southeastern Grasslands Institute about vermiculture\, the process of using worms to create compost. Participants will learn about the benefits of vermiculture and how to set up and care for their own worm bin. \nPhoto: University of Connecticut Extension
URL:https://natureonthebrink.org/event/vermiculture-101-the-science-of-worm-composting/
LOCATION:RT Jones Library\, Cherokee County\, GA\, 116 Brown Industrial Pkwy\, Canton\, GA\, 30114\, United States
CATEGORIES:Library Program
ATTACH;FMTTYPE=image/jpeg:https://natureonthebrink.org/wp-content/uploads/2026/04/vermiculture.jpg
END:VEVENT
END:VCALENDAR