BEGIN:VCALENDAR
VERSION:2.0
PRODID:-//natureonthebrink.org - ECPv6.15.20//NONSGML v1.0//EN
CALSCALE:GREGORIAN
METHOD:PUBLISH
X-ORIGINAL-URL:https://natureonthebrink.org
X-WR-CALDESC:Events for natureonthebrink.org
REFRESH-INTERVAL;VALUE=DURATION:PT1H
X-Robots-Tag:noindex
X-PUBLISHED-TTL:PT1H
BEGIN:VTIMEZONE
TZID:America/New_York
BEGIN:DAYLIGHT
TZOFFSETFROM:-0500
TZOFFSETTO:-0400
TZNAME:EDT
DTSTART:20250309T070000
END:DAYLIGHT
BEGIN:STANDARD
TZOFFSETFROM:-0400
TZOFFSETTO:-0500
TZNAME:EST
DTSTART:20251102T060000
END:STANDARD
BEGIN:DAYLIGHT
TZOFFSETFROM:-0500
TZOFFSETTO:-0400
TZNAME:EDT
DTSTART:20260308T070000
END:DAYLIGHT
BEGIN:STANDARD
TZOFFSETFROM:-0400
TZOFFSETTO:-0500
TZNAME:EST
DTSTART:20261101T060000
END:STANDARD
BEGIN:DAYLIGHT
TZOFFSETFROM:-0500
TZOFFSETTO:-0400
TZNAME:EDT
DTSTART:20270314T070000
END:DAYLIGHT
BEGIN:STANDARD
TZOFFSETFROM:-0400
TZOFFSETTO:-0500
TZNAME:EST
DTSTART:20271107T060000
END:STANDARD
END:VTIMEZONE
BEGIN:VEVENT
DTSTART;TZID=America/New_York:20260429T170000
DTEND;TZID=America/New_York:20260429T183000
DTSTAMP:20260423T123138
CREATED:20260422T082512Z
LAST-MODIFIED:20260422T193453Z
UID:771-1777482000-1777487400@natureonthebrink.org
SUMMARY:Emily Dickinson Where Botany Meets Poetry
DESCRIPTION:Celebrate National Poetry Month and America’s Semiquincentennial by learning about one of America’s great poets\, Emily Dickinson. Join Southeastern Grasslands Institute for a presentation about how her herbarium\, a collection of pressed plants\, influenced her poetry. Then learn how to create and press your own flowers after the presentation. Herbarium specimens supplies are limited. \nPhoto: Marginalian
URL:https://natureonthebrink.org/event/emily-dickinson-herbarium-poems/
LOCATION:RT Jones Library\, Cherokee County\, GA\, 116 Brown Industrial Pkwy\, Canton\, GA\, 30114\, United States
CATEGORIES:Library Program
ATTACH;FMTTYPE=image/webp:https://natureonthebrink.org/wp-content/uploads/2026/04/emilydickinson_herbarium8.webp
END:VEVENT
END:VCALENDAR